BEGIN:VCALENDAR
VERSION:2.0
PRODID:-//OE3 - ECPv6.15.20//NONSGML v1.0//EN
CALSCALE:GREGORIAN
METHOD:PUBLISH
X-WR-CALNAME:OE3
X-ORIGINAL-URL:https://www.oe3.org
X-WR-CALDESC:Events for OE3
REFRESH-INTERVAL;VALUE=DURATION:PT1H
X-Robots-Tag:noindex
X-PUBLISHED-TTL:PT1H
BEGIN:VTIMEZONE
TZID:America/Los_Angeles
BEGIN:DAYLIGHT
TZOFFSETFROM:-0800
TZOFFSETTO:-0700
TZNAME:PDT
DTSTART:20240310T100000
END:DAYLIGHT
BEGIN:STANDARD
TZOFFSETFROM:-0700
TZOFFSETTO:-0800
TZNAME:PST
DTSTART:20241103T090000
END:STANDARD
BEGIN:DAYLIGHT
TZOFFSETFROM:-0800
TZOFFSETTO:-0700
TZNAME:PDT
DTSTART:20250309T100000
END:DAYLIGHT
BEGIN:STANDARD
TZOFFSETFROM:-0700
TZOFFSETTO:-0800
TZNAME:PST
DTSTART:20251102T090000
END:STANDARD
BEGIN:DAYLIGHT
TZOFFSETFROM:-0800
TZOFFSETTO:-0700
TZNAME:PDT
DTSTART:20260308T100000
END:DAYLIGHT
BEGIN:STANDARD
TZOFFSETFROM:-0700
TZOFFSETTO:-0800
TZNAME:PST
DTSTART:20261101T090000
END:STANDARD
END:VTIMEZONE
BEGIN:VEVENT
DTSTART;VALUE=DATE:20250913
DTEND;VALUE=DATE:20250914
DTSTAMP:20260421T083950
CREATED:20250902T173318Z
LAST-MODIFIED:20250902T194558Z
UID:54837-1757721600-1757807999@www.oe3.org
SUMMARY:Retiree Meeting: Maui
DESCRIPTION:Maui EOE & Retirees Meeting (Combined)\, Saturday\, 9/11 @ 10am – 2pm
URL:https://www.oe3.org/event/retiree-meeting-maui/
LOCATION:Waiohuli Community Center\, 881 Laui Drive\, Kula\, HI\, United States
END:VEVENT
BEGIN:VEVENT
DTSTART;VALUE=DATE:20250911
DTEND;VALUE=DATE:20250912
DTSTAMP:20260421T083950
CREATED:20250902T173137Z
LAST-MODIFIED:20250902T173137Z
UID:54835-1757548800-1757635199@www.oe3.org
SUMMARY:Retirees Meeting: Hilo
DESCRIPTION:Thursday\, September 11 @ 12p
URL:https://www.oe3.org/event/retirees-meeting-hilo/
LOCATION:ILWU Hall\, 100 W. Lanikaula Street\, Hilo\, HI\, United States
END:VEVENT
BEGIN:VEVENT
DTSTART;VALUE=DATE:20250908
DTEND;VALUE=DATE:20250909
DTSTAMP:20260421T083950
CREATED:20250902T174110Z
LAST-MODIFIED:20250902T174119Z
UID:54838-1757289600-1757375999@www.oe3.org
SUMMARY:District Meeting: Kailua
DESCRIPTION:District 17 Hawaii (Kailua) meeting @ 7pm
URL:https://www.oe3.org/event/district-meeting-kailua/
LOCATION:Kailua High School\, 451 Ulumanu Dr\, Kailua\, HI\, 96734\, United States
END:VEVENT
END:VCALENDAR